BEGIN:VCALENDAR
VERSION:2.0
PRODID:itakvim.com
METHOD:PUBLISH
UID:855c50f5-8e04-48a2-d2c0-08de9f271cd7
X-WR-CALNAME:2026 Yılı FATCA Kapsamında Finansal Bilgilerin Bildirimi Son Gün
X-ITAKVIM-LANGUAGE:tr
X-ITAKVIM-REGION:TR
CALSCALE:GREGORIAN
BEGIN:VEVENT
UID:855c50f5-8e04-48a2-d2c0-08de9f271cd7
DTSTAMP:20260420T215235Z
DTSTART:20260630T140000Z
DTEND:20260630T140000Z
TRANSP:TRANSPARENT
STATUS:CONFIRMED
SUMMARY:2026 Yılı FATCA Kapsamında Finansal Bilgilerin Bildirimi Son Gün
DESCRIPTION:FATCA Anlaşmasının Uygulanmasına İlişkin Kılavuz Kapsamında Bildirimi Zorunlu ABD Hesaplarına İlişkin Bilgilerin Finansal Kuruluşlar Tarafından Elektronik Ortamda Bildirilmesi
END:VEVENT
END:VCALENDAR
