BEGIN:VCALENDAR
VERSION:2.0
PRODID:itakvim.com
METHOD:PUBLISH
UID:85e0c32f-efae-462d-5325-08de9f183112
X-WR-CALNAME:Nobel Çukurova Mobilya Fuarı
X-ITAKVIM-LANGUAGE:tr
X-ITAKVIM-REGION:TR
CALSCALE:GREGORIAN
BEGIN:VEVENT
UID:85e0c32f-efae-462d-5325-08de9f183112
DTSTAMP:20260420T200816Z
DTSTART:20261009T060000Z
DTEND:20261013T150000Z
TRANSP:TRANSPARENT
STATUS:CONFIRMED
SUMMARY:Nobel Çukurova Mobilya Fuarı
DESCRIPTION:Nobel Expo Uluslararası Fuarcılık Anonim Şirketi tarafından düzenlenen mobilya ve dekorasyon ürünleri konulu fuarda görüşmek üzere: 

Web:www.nobelexpo.com
E-Posta: info@nobelexpo.com
LOCATION:Adana Uluslararası  Fuar Ve Kongre Merkezi
END:VEVENT
END:VCALENDAR
