BEGIN:VCALENDAR
VERSION:2.0
PRODID:itakvim.com
METHOD:PUBLISH
UID:85f8486e-2345-4fcc-5281-08de9f183112
X-WR-CALNAME:Komatek 2026 18. Uluslararası  İş Ve İnşaat, Makine, Teknoloji Ve Aletleri İhtisas Fuarı
X-ITAKVIM-LANGUAGE:tr
X-ITAKVIM-REGION:TR
CALSCALE:GREGORIAN
BEGIN:VEVENT
UID:85f8486e-2345-4fcc-5281-08de9f183112
DTSTAMP:20260420T200816Z
DTSTART:20260603T060000Z
DTEND:20260606T150000Z
TRANSP:TRANSPARENT
STATUS:CONFIRMED
SUMMARY:Komatek 2026 18. Uluslararası  İş Ve İnşaat, Makine, Teknoloji Ve Aletleri İhtisas Fuarı
DESCRIPTION:Sada Uzmanlık Fuarları Tic. A.Ş. tarafından düzenlenen İş ve İnşaat makine, teknolojileri ve aletleri konulu fuarda görüşmek üzere: 

Web:www.komatekfuar.com
E-Posta: lbaykal@sada.com.tr
LOCATION:İstanbul Fuar Merkezi
END:VEVENT
END:VCALENDAR
