BEGIN:VCALENDAR
VERSION:2.0
PRODID:itakvim.com
METHOD:PUBLISH
UID:861d2c4c-4c4a-48dc-532f-08de9f183112
X-WR-CALNAME:8. Bursa Üniversite Tercih Fuarı
X-ITAKVIM-LANGUAGE:tr
X-ITAKVIM-REGION:TR
CALSCALE:GREGORIAN
BEGIN:VEVENT
UID:861d2c4c-4c4a-48dc-532f-08de9f183112
DTSTAMP:20260420T200816Z
DTSTART:20260723T060000Z
DTEND:20260723T150000Z
TRANSP:TRANSPARENT
STATUS:CONFIRMED
SUMMARY:8. Bursa Üniversite Tercih Fuarı
DESCRIPTION:Eket Fuarcılık Ticaret Limited Şirketi tarafından düzenlenen eğitim , yüksek öğretim ve üniversite konulu fuarda görüşmek üzere: 

Web:www.unitercih.com
E-Posta: info@eket.com.tr
LOCATION:Merinos Atatürk Kongre Ve Kültür Merkezi
END:VEVENT
END:VCALENDAR
