BEGIN:VCALENDAR
VERSION:2.0
PRODID:itakvim.com
METHOD:PUBLISH
UID:862ca465-da0b-4489-52da-08de9f183112
X-WR-CALNAME:Maktek Avrasya 2026 -  9. Uluslararası Takım Tezgahları, Metal Sac İşleme Makineleri, Tutucular -Kesici Takımlar, Kalite Kontrol, Ölçüm Sistemleri, Cad/Cam, Plm, Yazılımları, Ve Üretim Teknolojileri Fuarı
X-ITAKVIM-LANGUAGE:tr
X-ITAKVIM-REGION:TR
CALSCALE:GREGORIAN
BEGIN:VEVENT
UID:862ca465-da0b-4489-52da-08de9f183112
DTSTAMP:20260420T200816Z
DTSTART:20260928T060000Z
DTEND:20261003T150000Z
TRANSP:TRANSPARENT
STATUS:CONFIRMED
SUMMARY:Maktek Avrasya 2026 -  9. Uluslararası Takım Tezgahları, Metal Sac İşleme Makineleri, Tutucular -Kesici Takımlar, Kalite Kontrol, Ölçüm Sistemleri, Cad/Cam, Plm, Yazılımları, Ve Üretim Teknolojileri Fuarı
DESCRIPTION:Tüyap Tüm Fuarcılık Yapım Anonim Şirketi tarafından düzenlenen takım tezgahları, metal İşleme makineleri, kaynak, kesme, delme teknolojileri, kalite kontrol, test ve ölçüm cihazları konulu fuarda görüşmek üzere: 

Web:www.tuyap.com.tr
E-Posta: tuyap@tuyap.com.tr
LOCATION:Tüyap Fuar Ve Kongre Merkezi
END:VEVENT
END:VCALENDAR
