BEGIN:VCALENDAR
VERSION:2.0
PRODID:itakvim.com
METHOD:PUBLISH
UID:863103fd-0c37-4d48-d294-08de9f271cd7
X-WR-CALNAME:2025 Yılı Gerçek Faydalanıcı Bildirim Formu Son Gün
X-ITAKVIM-LANGUAGE:tr
X-ITAKVIM-REGION:TR
CALSCALE:GREGORIAN
BEGIN:VEVENT
UID:863103fd-0c37-4d48-d294-08de9f271cd7
DTSTAMP:20260420T215235Z
DTSTART:20260430T140000Z
DTEND:20260430T140000Z
TRANSP:TRANSPARENT
STATUS:CONFIRMED
SUMMARY:2025 Yılı Gerçek Faydalanıcı Bildirim Formu Son Gün
DESCRIPTION:2025 Yılına Ait Kurumlar Vergisi Beyannamesi Ekinde Kurumlar Vergisi Mükellefleri Tarafından Gerçek Faydalanıcıya İlişkin Bildirim Formunun Verilmesi
END:VEVENT
END:VCALENDAR
