BEGIN:VCALENDAR
VERSION:2.0
PRODID:itakvim.com
METHOD:PUBLISH
UID:87182c9e-cf4f-49c9-50ee-08de9f183112
X-WR-CALNAME:All.races.barcelona-catalunya-grand-prix Yarış
X-ITAKVIM-LANGUAGE:tr
X-ITAKVIM-REGION:TR
CALSCALE:GREGORIAN
BEGIN:VEVENT
UID:87182c9e-cf4f-49c9-50ee-08de9f183112
DTSTAMP:20260420T200718Z
DTSTART:20260614T130000Z
DTEND:20260614T130000Z
TRANSP:TRANSPARENT
STATUS:CONFIRMED
SUMMARY:All.races.barcelona-catalunya-grand-prix Yarış
END:VEVENT
END:VCALENDAR
