BEGIN:VCALENDAR
VERSION:2.0
PRODID:itakvim.com
METHOD:PUBLISH
UID:872aa4b9-ec61-48b1-50e4-08de9f183112
X-WR-CALNAME:Kanada Grand Prix'si Yarış
X-ITAKVIM-LANGUAGE:tr
X-ITAKVIM-REGION:TR
CALSCALE:GREGORIAN
BEGIN:VEVENT
UID:872aa4b9-ec61-48b1-50e4-08de9f183112
DTSTAMP:20260420T200718Z
DTSTART:20260524T200000Z
DTEND:20260524T200000Z
TRANSP:TRANSPARENT
STATUS:CONFIRMED
SUMMARY:Kanada Grand Prix'si Yarış
END:VEVENT
END:VCALENDAR
