BEGIN:VCALENDAR
VERSION:2.0
PRODID:itakvim.com
METHOD:PUBLISH
UID:87b9c342-57ca-42f1-5338-08de9f183112
X-WR-CALNAME:Vitahealth Fuarı
X-ITAKVIM-LANGUAGE:tr
X-ITAKVIM-REGION:TR
CALSCALE:GREGORIAN
BEGIN:VEVENT
UID:87b9c342-57ca-42f1-5338-08de9f183112
DTSTAMP:20260420T200816Z
DTSTART:20260921T060000Z
DTEND:20260926T150000Z
TRANSP:TRANSPARENT
STATUS:CONFIRMED
SUMMARY:Vitahealth Fuarı
DESCRIPTION:Bt Turizm Organizasyon Ve Fuarcılık Sanayi Ticaret Limited Şirketi tarafından düzenlenen gıda takviyeleri, sağlıklı yaşam tedavileri, sağlık turizmi, tıbbi cihazlar, wellness konulu fuarda görüşmek üzere: 

Web:www.vitahealthfair.com
E-Posta: baris@bt-danismanlik.com
LOCATION:Pullman İstanbul Hotel & Conventıon Center
END:VEVENT
END:VCALENDAR
