BEGIN:VCALENDAR
VERSION:2.0
PRODID:itakvim.com
METHOD:PUBLISH
UID:8839cbcb-ed9b-48bb-4f4c-08de9f183112
X-WR-CALNAME:YDUS Tıpta Yan Dal Uzmanlık Eğitimi Giriş Sınavı 2026-YDUS Sınav
X-ITAKVIM-LANGUAGE:tr
X-ITAKVIM-REGION:TR
CALSCALE:GREGORIAN
BEGIN:VEVENT
UID:8839cbcb-ed9b-48bb-4f4c-08de9f183112
DTSTAMP:20260420T200538Z
DTSTART:20260501T210000Z
DTEND:20260501T210000Z
TRANSP:TRANSPARENT
STATUS:CONFIRMED
SUMMARY:YDUS Tıpta Yan Dal Uzmanlık Eğitimi Giriş Sınavı 2026-YDUS Sınav
END:VEVENT
END:VCALENDAR
