BEGIN:VCALENDAR
VERSION:2.0
PRODID:itakvim.com
METHOD:PUBLISH
UID:889d9e21-b5bf-4d6f-d60f-08de9fecec0c
X-WR-CALNAME:e-YDS Elektronik Yabancı Dil Sınavı (e-YDS 2026/10 İngilizce) *** Sonuç
X-ITAKVIM-LANGUAGE:tr
X-ITAKVIM-REGION:TR
CALSCALE:GREGORIAN
BEGIN:VEVENT
UID:889d9e21-b5bf-4d6f-d60f-08de9fecec0c
DTSTAMP:20260421T212824Z
DTSTART:20260925T210000Z
DTEND:20260925T210000Z
TRANSP:TRANSPARENT
STATUS:CONFIRMED
SUMMARY:e-YDS Elektronik Yabancı Dil Sınavı (e-YDS 2026/10 İngilizce) *** Sonuç
END:VEVENT
END:VCALENDAR
