BEGIN:VCALENDAR
VERSION:2.0
PRODID:itakvim.com
METHOD:PUBLISH
UID:88a4f9d2-a81f-4ed1-4fbc-08de9f183112
X-WR-CALNAME:DGS Dikey Geçiş Sınavı 2026-DGS Sınav
X-ITAKVIM-LANGUAGE:tr
X-ITAKVIM-REGION:TR
CALSCALE:GREGORIAN
BEGIN:VEVENT
UID:88a4f9d2-a81f-4ed1-4fbc-08de9f183112
DTSTAMP:20260420T200538Z
DTSTART:20260718T210000Z
DTEND:20260718T210000Z
TRANSP:TRANSPARENT
STATUS:CONFIRMED
SUMMARY:DGS Dikey Geçiş Sınavı 2026-DGS Sınav
END:VEVENT
END:VCALENDAR
