BEGIN:VCALENDAR
VERSION:2.0
PRODID:itakvim.com
METHOD:PUBLISH
UID:88b541c3-2da6-406b-5101-08de9f183112
X-WR-CALNAME:Macaristan Grand Prix'si Sıralama turları
X-ITAKVIM-LANGUAGE:tr
X-ITAKVIM-REGION:TR
CALSCALE:GREGORIAN
BEGIN:VEVENT
UID:88b541c3-2da6-406b-5101-08de9f183112
DTSTAMP:20260420T200718Z
DTSTART:20260725T140000Z
DTEND:20260725T140000Z
TRANSP:TRANSPARENT
STATUS:CONFIRMED
SUMMARY:Macaristan Grand Prix'si Sıralama turları
END:VEVENT
END:VCALENDAR
