BEGIN:VCALENDAR
VERSION:2.0
PRODID:itakvim.com
METHOD:PUBLISH
UID:8939c7ae-2524-4e88-dd66-08de9c03c470
X-WR-CALNAME:ZECORNER KAYSERİSPOR - İKAS EYÜPSPOR
X-ITAKVIM-LANGUAGE:tr
X-ITAKVIM-REGION:TR
CALSCALE:GREGORIAN
BEGIN:VEVENT
UID:8939c7ae-2524-4e88-dd66-08de9c03c470
DTSTAMP:20260416T220746Z
DTSTART:20260502T210000Z
DTEND:20260502T210000Z
TRANSP:TRANSPARENT
STATUS:CONFIRMED
SUMMARY:ZECORNER KAYSERİSPOR - İKAS EYÜPSPOR
LOCATION:RHG ENERTÜRK ENERJİ STADYUMU - KAYSERİ
END:VEVENT
END:VCALENDAR
