BEGIN:VCALENDAR
VERSION:2.0
PRODID:itakvim.com
METHOD:PUBLISH
UID:89b0e70b-4a32-46bd-4f22-08de9f183112
X-WR-CALNAME:TR-YÖS Türkiye Yurt Dışından Öğrenci Kabul Sınavı 2026-TR-YÖS/2 Geç Başvuru Başlangıç
X-ITAKVIM-LANGUAGE:tr
X-ITAKVIM-REGION:TR
CALSCALE:GREGORIAN
BEGIN:VEVENT
UID:89b0e70b-4a32-46bd-4f22-08de9f183112
DTSTAMP:20260420T200538Z
DTSTART:20260806T210000Z
DTEND:20260806T210000Z
TRANSP:TRANSPARENT
STATUS:CONFIRMED
SUMMARY:TR-YÖS Türkiye Yurt Dışından Öğrenci Kabul Sınavı 2026-TR-YÖS/2 Geç Başvuru Başlangıç
END:VEVENT
END:VCALENDAR
