BEGIN:VCALENDAR
VERSION:2.0
PRODID:itakvim.com
METHOD:PUBLISH
UID:8a06ad94-dcad-4653-4f88-08de9f183112
X-WR-CALNAME:e-YÖKDİL Elektronik Yükseköğretim Kurumları Yabancı Dil Sınavı (e-YÖKDİL 2026/1 İngilizce-Sosyal Bilimler) ****** Başvuru Bitiş
X-ITAKVIM-LANGUAGE:tr
X-ITAKVIM-REGION:TR
CALSCALE:GREGORIAN
BEGIN:VEVENT
UID:8a06ad94-dcad-4653-4f88-08de9f183112
DTSTAMP:20260420T200538Z
DTSTART:20260506T210000Z
DTEND:20260506T210000Z
TRANSP:TRANSPARENT
STATUS:CONFIRMED
SUMMARY:e-YÖKDİL Elektronik Yükseköğretim Kurumları Yabancı Dil Sınavı (e-YÖKDİL 2026/1 İngilizce-Sosyal Bilimler) ****** Başvuru Bitiş
END:VEVENT
END:VCALENDAR
