BEGIN:VCALENDAR
VERSION:2.0
PRODID:itakvim.com
METHOD:PUBLISH
UID:8a57221b-acc1-43ec-4eea-08de9f183112
X-WR-CALNAME:KPSS Kamu Personel Seçme Sınavı 2026-KPSS Lisans (Genel Yetenek-Genel Kültür) Sonuç
X-ITAKVIM-LANGUAGE:tr
X-ITAKVIM-REGION:TR
CALSCALE:GREGORIAN
BEGIN:VEVENT
UID:8a57221b-acc1-43ec-4eea-08de9f183112
DTSTAMP:20260420T200538Z
DTSTART:20261006T210000Z
DTEND:20261006T210000Z
TRANSP:TRANSPARENT
STATUS:CONFIRMED
SUMMARY:KPSS Kamu Personel Seçme Sınavı 2026-KPSS Lisans (Genel Yetenek-Genel Kültür) Sonuç
END:VEVENT
END:VCALENDAR
