BEGIN:VCALENDAR
VERSION:2.0
PRODID:itakvim.com
METHOD:PUBLISH
UID:8a83b87d-c359-49ce-5195-08de9f183112
X-WR-CALNAME:Lisans Hazırlık Dönem Sonu Sınavları
X-ITAKVIM-LANGUAGE:tr
X-ITAKVIM-REGION:TR
CALSCALE:GREGORIAN
BEGIN:VEVENT
UID:8a83b87d-c359-49ce-5195-08de9f183112
DTSTAMP:20260420T200724Z
DTSTART:20260607T210000Z
DTEND:20260611T210000Z
TRANSP:TRANSPARENT
STATUS:CONFIRMED
SUMMARY:Lisans Hazırlık Dönem Sonu Sınavları
END:VEVENT
END:VCALENDAR
