BEGIN:VCALENDAR
VERSION:2.0
PRODID:itakvim.com
METHOD:PUBLISH
UID:8b63293e-e027-4379-526a-08de9f183112
X-WR-CALNAME:Antalya Expohunt  Av Silah Doğa Sporları Fuarı
X-ITAKVIM-LANGUAGE:tr
X-ITAKVIM-REGION:TR
CALSCALE:GREGORIAN
BEGIN:VEVENT
UID:8b63293e-e027-4379-526a-08de9f183112
DTSTAMP:20260420T200816Z
DTSTART:20260430T060000Z
DTEND:20260503T150000Z
TRANSP:TRANSPARENT
STATUS:CONFIRMED
SUMMARY:Antalya Expohunt  Av Silah Doğa Sporları Fuarı
DESCRIPTION:Geoexpo Fuar Ve Medya Limited Şirketi tarafından düzenlenen av tüfekleri silah balıkçılık okçuluk doğa sporları konulu fuarda görüşmek üzere: 

Web:EXPOHUNT.COM.TR
E-Posta: geoexpotr@gmail.com
LOCATION:Anfaş Antalya Fuar Ve Kongre Merkezi
END:VEVENT
END:VCALENDAR
