BEGIN:VCALENDAR
VERSION:2.0
PRODID:itakvim.com
METHOD:PUBLISH
UID:8b8b7597-5ce3-4e25-52fc-08de9f183112
X-WR-CALNAME:İmeak Deniz Ticaret Odası Bodrum Boat Show
X-ITAKVIM-LANGUAGE:tr
X-ITAKVIM-REGION:TR
CALSCALE:GREGORIAN
BEGIN:VEVENT
UID:8b8b7597-5ce3-4e25-52fc-08de9f183112
DTSTAMP:20260420T200817Z
DTSTART:20261014T060000Z
DTEND:20261018T150000Z
TRANSP:TRANSPARENT
STATUS:CONFIRMED
SUMMARY:İmeak Deniz Ticaret Odası Bodrum Boat Show
DESCRIPTION:Ed Fuarcılık Ve Organizasyon Ltd. Şti. tarafından düzenlenen tekne, tekne ekipmanları ve aksesuarları fuarı konulu fuarda görüşmek üzere: 

Web:www.bodrumboatshow.com.tr
E-Posta: emelyilmaz@edfuar.com
LOCATION:Muttaş Bodrum Liman
END:VEVENT
END:VCALENDAR
