BEGIN:VCALENDAR
VERSION:2.0
PRODID:itakvim.com
METHOD:PUBLISH
UID:8e32e6b0-e26c-4ad1-5349-08de9f183112
X-WR-CALNAME:Future Fısh Eurasıa
X-ITAKVIM-LANGUAGE:tr
X-ITAKVIM-REGION:TR
CALSCALE:GREGORIAN
BEGIN:VEVENT
UID:8e32e6b0-e26c-4ad1-5349-08de9f183112
DTSTAMP:20260420T200816Z
DTSTART:20260924T060000Z
DTEND:20260926T150000Z
TRANSP:TRANSPARENT
STATUS:CONFIRMED
SUMMARY:Future Fısh Eurasıa
DESCRIPTION:Avrasya Fuarcılık Tanıtım Organizasyon Hizmetleri Limited Şirketi tarafından düzenlenen uluslararası su ürünleri İhracat ve İşleme, akuakültür ve balıkçılık fuarı konulu fuarda görüşmek üzere: 

Web:www.future-fish.com
E-Posta: info@eurasiafairs.com
LOCATION:Fuarizmir - Yeni Fuar Alanı
END:VEVENT
END:VCALENDAR
