BEGIN:VCALENDAR
VERSION:2.0
PRODID:itakvim.com
METHOD:PUBLISH
UID:8e757ee4-d7d4-4441-50e3-08de9f183112
X-WR-CALNAME:Kanada Grand Prix'si Sıralama turları
X-ITAKVIM-LANGUAGE:tr
X-ITAKVIM-REGION:TR
CALSCALE:GREGORIAN
BEGIN:VEVENT
UID:8e757ee4-d7d4-4441-50e3-08de9f183112
DTSTAMP:20260420T200718Z
DTSTART:20260523T200000Z
DTEND:20260523T200000Z
TRANSP:TRANSPARENT
STATUS:CONFIRMED
SUMMARY:Kanada Grand Prix'si Sıralama turları
END:VEVENT
END:VCALENDAR
