BEGIN:VCALENDAR
VERSION:2.0
PRODID:itakvim.com
METHOD:PUBLISH
UID:8f0070f2-612c-407a-4f62-08de9f183112
X-WR-CALNAME:e-TEP Elektronik İngilizce Yeterlik Sınavı/Electronic-Test of English Proficiency (e-TEP 2026/2 İngilizce) ******* Sınav
X-ITAKVIM-LANGUAGE:tr
X-ITAKVIM-REGION:TR
CALSCALE:GREGORIAN
BEGIN:VEVENT
UID:8f0070f2-612c-407a-4f62-08de9f183112
DTSTAMP:20260420T200538Z
DTSTART:20260425T104500Z
DTEND:20260425T104500Z
TRANSP:TRANSPARENT
STATUS:CONFIRMED
SUMMARY:e-TEP Elektronik İngilizce Yeterlik Sınavı/Electronic-Test of English Proficiency (e-TEP 2026/2 İngilizce) ******* Sınav
END:VEVENT
END:VCALENDAR
