BEGIN:VCALENDAR
VERSION:2.0
PRODID:itakvim.com
METHOD:PUBLISH
UID:8f97a1ba-cad5-4b42-5254-08de9f183112
X-WR-CALNAME:Studyexpo Yurtdışı Eğitim Fuarı
X-ITAKVIM-LANGUAGE:tr
X-ITAKVIM-REGION:TR
CALSCALE:GREGORIAN
BEGIN:VEVENT
UID:8f97a1ba-cad5-4b42-5254-08de9f183112
DTSTAMP:20260420T200816Z
DTSTART:20261004T060000Z
DTEND:20261004T150000Z
TRANSP:TRANSPARENT
STATUS:CONFIRMED
SUMMARY:Studyexpo Yurtdışı Eğitim Fuarı
DESCRIPTION:Study Expo Fuarcılık A.Ş. tarafından düzenlenen yurtdışı eğitim fuarı konulu fuarda görüşmek üzere: 

Web:www.studyexpo.com
E-Posta: info@studyexpo.com
LOCATION:Hilton Istanbul Kozyatagi
END:VEVENT
END:VCALENDAR
