BEGIN:VCALENDAR
VERSION:2.0
PRODID:itakvim.com
METHOD:PUBLISH
UID:9017469f-de08-4883-4f70-08de9f183112
X-WR-CALNAME:STS Öğretmenlik Öğretmenlik Meslek Bilgisi Alanında Yurt Dışı Yükseköğretim Diploma Denkliği İçin Seviye Tespit Sınavı 2026-STS Öğretmenlik Başvuru Bitiş
X-ITAKVIM-LANGUAGE:tr
X-ITAKVIM-REGION:TR
CALSCALE:GREGORIAN
BEGIN:VEVENT
UID:9017469f-de08-4883-4f70-08de9f183112
DTSTAMP:20260420T200538Z
DTSTART:20260505T210000Z
DTEND:20260505T210000Z
TRANSP:TRANSPARENT
STATUS:CONFIRMED
SUMMARY:STS Öğretmenlik Öğretmenlik Meslek Bilgisi Alanında Yurt Dışı Yükseköğretim Diploma Denkliği İçin Seviye Tespit Sınavı 2026-STS Öğretmenlik Başvuru Bitiş
END:VEVENT
END:VCALENDAR
