BEGIN:VCALENDAR
VERSION:2.0
PRODID:itakvim.com
METHOD:PUBLISH
UID:9133fb2b-6e1b-4661-d2d2-08de9f271cd7
X-WR-CALNAME:2025 Yılı Ülke Bazlı Raporlamaya İlişkin Bildirim Formu Son Gün
X-ITAKVIM-LANGUAGE:tr
X-ITAKVIM-REGION:TR
CALSCALE:GREGORIAN
BEGIN:VEVENT
UID:9133fb2b-6e1b-4661-d2d2-08de9f271cd7
DTSTAMP:20260420T215235Z
DTSTART:20260630T140000Z
DTEND:20260630T140000Z
TRANSP:TRANSPARENT
STATUS:CONFIRMED
SUMMARY:2025 Yılı Ülke Bazlı Raporlamaya İlişkin Bildirim Formu Son Gün
DESCRIPTION:2025 Yılı Ülke Bazlı Raporlamaya İlişkin Bildirim Formu (Ek-5)
END:VEVENT
END:VCALENDAR
