BEGIN:VCALENDAR
VERSION:2.0
PRODID:itakvim.com
METHOD:PUBLISH
UID:925b3c1b-0b18-43d6-52e4-08de9f183112
X-WR-CALNAME:9. Euro Animalia Trakya Avrupa Hayvancılık Süt Ve Süt Ürünleri Edüstrisi, İş Makinaları Fuarı
X-ITAKVIM-LANGUAGE:tr
X-ITAKVIM-REGION:TR
CALSCALE:GREGORIAN
BEGIN:VEVENT
UID:925b3c1b-0b18-43d6-52e4-08de9f183112
DTSTAMP:20260420T200816Z
DTSTART:20260810T060000Z
DTEND:20260815T150000Z
TRANSP:TRANSPARENT
STATUS:CONFIRMED
SUMMARY:9. Euro Animalia Trakya Avrupa Hayvancılık Süt Ve Süt Ürünleri Edüstrisi, İş Makinaları Fuarı
DESCRIPTION:Renkli Fuarcılık Ltd. Şti. tarafından düzenlenen hayvancılık ekipmanları, süt teknolojileri, kümes hayvanları, mekanizasyon, hayvan barınakları, İş makinaları konulu fuarda görüşmek üzere: 

Web:www.renklyfuar.com
E-Posta: info@renklyfuar.com
LOCATION:Çorlu Yeni Fuar Alanı
END:VEVENT
END:VCALENDAR
