BEGIN:VCALENDAR
VERSION:2.0
PRODID:itakvim.com
METHOD:PUBLISH
UID:92b4832b-52f5-4989-5262-08de9f183112
X-WR-CALNAME:4. Oyfest Oyuncak Ve Çocuk Gereçleri Fuarı
X-ITAKVIM-LANGUAGE:tr
X-ITAKVIM-REGION:TR
CALSCALE:GREGORIAN
BEGIN:VEVENT
UID:92b4832b-52f5-4989-5262-08de9f183112
DTSTAMP:20260420T200816Z
DTSTART:20261001T060000Z
DTEND:20261003T150000Z
TRANSP:TRANSPARENT
STATUS:CONFIRMED
SUMMARY:4. Oyfest Oyuncak Ve Çocuk Gereçleri Fuarı
DESCRIPTION:Oyfest Fuarcılık Ve Organizasyon Limited Şirketi tarafından düzenlenen bebek, çocuk ve yetişkin oyuncakları, hobi ve yaşam tarzı ürünleri konulu fuarda görüşmek üzere: 

Web:oyfest.com.tr
E-Posta: fatos@oyfest.com.tr
LOCATION:Royal Seginus Hotel
END:VEVENT
END:VCALENDAR
