BEGIN:VCALENDAR
VERSION:2.0
PRODID:itakvim.com
METHOD:PUBLISH
UID:932a6082-513d-48ea-52d9-08de9f183112
X-WR-CALNAME:Fastener Expo Eurasia 
Avrasya Endüstriyel Bağlantı Ve Sabitleme Elemanları Fuarı
X-ITAKVIM-LANGUAGE:tr
X-ITAKVIM-REGION:TR
CALSCALE:GREGORIAN
BEGIN:VEVENT
UID:932a6082-513d-48ea-52d9-08de9f183112
DTSTAMP:20260420T200816Z
DTSTART:20260917T060000Z
DTEND:20260920T150000Z
TRANSP:TRANSPARENT
STATUS:CONFIRMED
SUMMARY:Fastener Expo Eurasia 
Avrasya Endüstriyel Bağlantı Ve Sabitleme Elemanları Fuarı
DESCRIPTION:Reed Tüyap Fuarcılık Anonim Şirketi tarafından düzenlenen endüstriyel bağlantı ve sabitleme elemanları, üretim teknolojileri konulu fuarda görüşmek üzere: 

Web:www.tuyap.com.tr
E-Posta: isilgordi@hotmail.com
LOCATION:Tüyap Fuar Ve Kongre Merkezi
END:VEVENT
END:VCALENDAR
