BEGIN:VCALENDAR
VERSION:2.0
PRODID:itakvim.com
METHOD:PUBLISH
UID:9370e1ab-bfd0-411b-5274-08de9f183112
X-WR-CALNAME:Edıs
X-ITAKVIM-LANGUAGE:tr
X-ITAKVIM-REGION:TR
CALSCALE:GREGORIAN
BEGIN:VEVENT
UID:9370e1ab-bfd0-411b-5274-08de9f183112
DTSTAMP:20260420T200816Z
DTSTART:20260705T060000Z
DTEND:20260705T150000Z
TRANSP:TRANSPARENT
STATUS:CONFIRMED
SUMMARY:Edıs
DESCRIPTION:Edis Fuarcılık Ticaret Limited Şirketi tarafından düzenlenen universite tanıtımı konulu fuarda görüşmek üzere: 

Web:www.unitededucation.com/en/edisglobal
E-Posta: kurumsal@unitededucation.com.tr
LOCATION:Hilton Mall Of İstanbul Otel
END:VEVENT
END:VCALENDAR
