BEGIN:VCALENDAR
VERSION:2.0
PRODID:itakvim.com
METHOD:PUBLISH
UID:94c4d13f-a77b-42c8-d2bc-08de9f271cd7
X-WR-CALNAME:Şubat 2026 Dönemi Elektronik Defter Beratları Son Gün
X-ITAKVIM-LANGUAGE:tr
X-ITAKVIM-REGION:TR
CALSCALE:GREGORIAN
BEGIN:VEVENT
UID:94c4d13f-a77b-42c8-d2bc-08de9f271cd7
DTSTAMP:20260420T215235Z
DTSTART:20260615T140000Z
DTEND:20260615T140000Z
TRANSP:TRANSPARENT
STATUS:CONFIRMED
SUMMARY:Şubat 2026 Dönemi Elektronik Defter Beratları Son Gün
DESCRIPTION:Geçici Vergi Dönemleri Bazında Yükleme Tercihinde Bulunmuş Diğer Mükelleflerin Şubat 2026 Dönemine Ait Elektronik Defter Beratlarının Yüklenmesi
END:VEVENT
END:VCALENDAR
