BEGIN:VCALENDAR
VERSION:2.0
PRODID:itakvim.com
METHOD:PUBLISH
UID:95874569-8149-48fb-534a-08de9f183112
X-WR-CALNAME:Logistech "5. Lojistik, Depolama Ve Teknolojileri Fuarı"
X-ITAKVIM-LANGUAGE:tr
X-ITAKVIM-REGION:TR
CALSCALE:GREGORIAN
BEGIN:VEVENT
UID:95874569-8149-48fb-534a-08de9f183112
DTSTAMP:20260420T200816Z
DTSTART:20261007T060000Z
DTEND:20261009T150000Z
TRANSP:TRANSPARENT
STATUS:CONFIRMED
SUMMARY:Logistech "5. Lojistik, Depolama Ve Teknolojileri Fuarı"
DESCRIPTION:İzfaş İzmir Fuarcılık Hizmetleri Kültür Ve Sanat İşleri Ticaret Anonim Şirketi tarafından düzenlenen lojistik, depolama teknolojileri konulu fuarda görüşmek üzere: 

Web:www.izfas.com.tr
E-Posta: muhasebe@izmirfair.com.tr
LOCATION:Fuarizmir - Yeni Fuar Alanı
END:VEVENT
END:VCALENDAR
