BEGIN:VCALENDAR
VERSION:2.0
PRODID:itakvim.com
METHOD:PUBLISH
UID:96388105-2e5f-48b4-5178-08de9f183112
X-WR-CALNAME:Azami Süre Sonunda Mezun Olamayan Son Sınıf Öğrencilerine Lisans Eğitim ve Öğretim Yönetmeliği'nin 14. Maddesine Göre Uygulanacak Ek Sınav 1 ve Ek Sınav 2
X-ITAKVIM-LANGUAGE:tr
X-ITAKVIM-REGION:TR
CALSCALE:GREGORIAN
BEGIN:VEVENT
UID:96388105-2e5f-48b4-5178-08de9f183112
DTSTAMP:20260420T200724Z
DTSTART:20260531T210000Z
DTEND:20260618T210000Z
TRANSP:TRANSPARENT
STATUS:CONFIRMED
SUMMARY:Azami Süre Sonunda Mezun Olamayan Son Sınıf Öğrencilerine Lisans Eğitim ve Öğretim Yönetmeliği'nin 14. Maddesine Göre Uygulanacak Ek Sınav 1 ve Ek Sınav 2
END:VEVENT
END:VCALENDAR
