BEGIN:VCALENDAR
VERSION:2.0
PRODID:itakvim.com
METHOD:PUBLISH
UID:97a1ccf4-e7ae-4dc8-d2b8-08de9f271cd7
X-WR-CALNAME:Mart 2026 Dönemi Elektronik Defter Beratları Son Gün
X-ITAKVIM-LANGUAGE:tr
X-ITAKVIM-REGION:TR
CALSCALE:GREGORIAN
BEGIN:VEVENT
UID:97a1ccf4-e7ae-4dc8-d2b8-08de9f271cd7
DTSTAMP:20260420T215235Z
DTSTART:20260615T140000Z
DTEND:20260615T140000Z
TRANSP:TRANSPARENT
STATUS:CONFIRMED
SUMMARY:Mart 2026 Dönemi Elektronik Defter Beratları Son Gün
DESCRIPTION:Geçici Vergi Dönemleri Bazında Yükleme Tercihinde Bulunmuş Diğer Mükelleflerin Mart 2026 Dönemine Ait Elektronik Defter Beratlarının Yüklenmesi
END:VEVENT
END:VCALENDAR
