BEGIN:VCALENDAR
VERSION:2.0
PRODID:itakvim.com
METHOD:PUBLISH
UID:98160b63-a408-4633-531f-08de9f183112
X-WR-CALNAME:Kapex Kapı Fuarı
X-ITAKVIM-LANGUAGE:tr
X-ITAKVIM-REGION:TR
CALSCALE:GREGORIAN
BEGIN:VEVENT
UID:98160b63-a408-4633-531f-08de9f183112
DTSTAMP:20260420T200816Z
DTSTART:20260909T060000Z
DTEND:20260912T150000Z
TRANSP:TRANSPARENT
STATUS:CONFIRMED
SUMMARY:Kapex Kapı Fuarı
DESCRIPTION:Nobel Expo Uluslararası Fuarcılık Anonim Şirketi tarafından düzenlenen çelik, ahşap, cam, alimünyum, plastik ve her türlü kapı üretimi konulu fuarda görüşmek üzere: 

Web:www.nobelexpo.com
E-Posta: info@nobelexpo.com
LOCATION:Kayseri Osb Fuar Ve Kongre Merkezi
END:VEVENT
END:VCALENDAR
