BEGIN:VCALENDAR
VERSION:2.0
PRODID:itakvim.com
METHOD:PUBLISH
UID:98c6b22c-23d7-475e-52e5-08de9f183112
X-WR-CALNAME:Çorlu 19.Tarımtech Trakya Avrupa Hayvancılık Sanayi Ve Gıda Fuarı
X-ITAKVIM-LANGUAGE:tr
X-ITAKVIM-REGION:TR
CALSCALE:GREGORIAN
BEGIN:VEVENT
UID:98c6b22c-23d7-475e-52e5-08de9f183112
DTSTAMP:20260420T200816Z
DTSTART:20260810T060000Z
DTEND:20260815T150000Z
TRANSP:TRANSPARENT
STATUS:CONFIRMED
SUMMARY:Çorlu 19.Tarımtech Trakya Avrupa Hayvancılık Sanayi Ve Gıda Fuarı
DESCRIPTION:Renkli Fuarcılık Ltd. Şti. tarafından düzenlenen tarım hayvancılık, tohum, gıda, tohum, meyvecilik, sulama teknolojileri konulu fuarda görüşmek üzere: 

Web:www.renklyfuar.com
E-Posta: info@renklyfuar.com
LOCATION:Çorlu Yeni Fuar Alanı
END:VEVENT
END:VCALENDAR
