BEGIN:VCALENDAR
VERSION:2.0
PRODID:itakvim.com
METHOD:PUBLISH
UID:990c107f-5a11-48ff-526d-08de9f183112
X-WR-CALNAME:3.Jojo Caravanport  - Hobbyport Antalya Karavan, Karavan Ekipmanları Kamp Tiny House Outdoor - Modüler Evler Otomotiv Ve Otomotiv Yan Ürünieri Fuarı
X-ITAKVIM-LANGUAGE:tr
X-ITAKVIM-REGION:TR
CALSCALE:GREGORIAN
BEGIN:VEVENT
UID:990c107f-5a11-48ff-526d-08de9f183112
DTSTAMP:20260420T200816Z
DTSTART:20261007T060000Z
DTEND:20261011T150000Z
TRANSP:TRANSPARENT
STATUS:CONFIRMED
SUMMARY:3.Jojo Caravanport  - Hobbyport Antalya Karavan, Karavan Ekipmanları Kamp Tiny House Outdoor - Modüler Evler Otomotiv Ve Otomotiv Yan Ürünieri Fuarı
DESCRIPTION:Jojo Fuar Ve Fuarcılık Hizmetleri Anonim Şirketi tarafından düzenlenen karavan, karavan yan sanayi, karavan ekipmanları kamp tiny house outdoor - modüler evler otomotiv ve otomotiv yan ürünieri fuarı konulu fuarda görüşmek üzere: 

Web:www.jojoexpo.com
E-Posta: tariksipar@tariksipar.com
LOCATION:Anfaş Antalya Fuar Ve Kongre Merkezi
END:VEVENT
END:VCALENDAR
