BEGIN:VCALENDAR
VERSION:2.0
PRODID:itakvim.com
METHOD:PUBLISH
UID:99ed69f6-0c1c-4f00-59c1-08de9f8ee600
X-WR-CALNAME:İgef'26 - 3.Uluslararası İç Güvenlik Ekipmanları Fuarı
X-ITAKVIM-LANGUAGE:tr
X-ITAKVIM-REGION:TR
CALSCALE:GREGORIAN
BEGIN:VEVENT
UID:99ed69f6-0c1c-4f00-59c1-08de9f8ee600
DTSTAMP:20260421T101545Z
DTSTART:20261112T060000Z
DTEND:20261114T150000Z
TRANSP:TRANSPARENT
STATUS:CONFIRMED
SUMMARY:İgef'26 - 3.Uluslararası İç Güvenlik Ekipmanları Fuarı
DESCRIPTION:Expolınk Fuarcılık Hizmetleri Ticaret Anonim Şirketi tarafından düzenlenen iç güvenlik, polis, özel güvenlik, jandarma  ekipmanları ve teknolojileri konulu fuarda görüşmek üzere: 

Web:www.igef.com.tr
E-Posta: zekierdogan06@gmail.com
LOCATION:Ato Kongre Ve Sergi Sarayı 'Congresıum'
END:VEVENT
END:VCALENDAR
