BEGIN:VCALENDAR
VERSION:2.0
PRODID:itakvim.com
METHOD:PUBLISH
UID:9a6d4ec6-7520-41ff-dd52-08de9c03c470
X-WR-CALNAME:TRABZONSPOR A.Ş. - GÖZTEPE A.Ş.
X-ITAKVIM-LANGUAGE:tr
X-ITAKVIM-REGION:TR
CALSCALE:GREGORIAN
BEGIN:VEVENT
UID:9a6d4ec6-7520-41ff-dd52-08de9c03c470
DTSTAMP:20260416T220746Z
DTSTART:20260502T210000Z
DTEND:20260502T210000Z
TRANSP:TRANSPARENT
STATUS:CONFIRMED
SUMMARY:TRABZONSPOR A.Ş. - GÖZTEPE A.Ş.
LOCATION:PAPARA PARK - TRABZON
END:VEVENT
END:VCALENDAR
