BEGIN:VCALENDAR
VERSION:2.0
PRODID:itakvim.com
METHOD:PUBLISH
UID:9a962e39-e64e-4e89-4ed9-08de9f183112
X-WR-CALNAME:YDS Yabancı Dil Bilgisi Seviye Tespit Sınavı 2026-YDS/2 Sınav
X-ITAKVIM-LANGUAGE:tr
X-ITAKVIM-REGION:TR
CALSCALE:GREGORIAN
BEGIN:VEVENT
UID:9a962e39-e64e-4e89-4ed9-08de9f183112
DTSTAMP:20260420T200538Z
DTSTART:20261121T210000Z
DTEND:20261121T210000Z
TRANSP:TRANSPARENT
STATUS:CONFIRMED
SUMMARY:YDS Yabancı Dil Bilgisi Seviye Tespit Sınavı 2026-YDS/2 Sınav
END:VEVENT
END:VCALENDAR
