BEGIN:VCALENDAR
VERSION:2.0
PRODID:itakvim.com
METHOD:PUBLISH
UID:9b32b91f-85e2-41c0-51c7-08de9f183112
X-WR-CALNAME:Danışman Onayı ile Ders Planındaki Derslerden Birisini Bırakıp Bir Başka Derse Yazılma
X-ITAKVIM-LANGUAGE:tr
X-ITAKVIM-REGION:TR
CALSCALE:GREGORIAN
BEGIN:VEVENT
UID:9b32b91f-85e2-41c0-51c7-08de9f183112
DTSTAMP:20260420T200724Z
DTSTART:20260629T070000Z
DTEND:20260630T140000Z
TRANSP:TRANSPARENT
STATUS:CONFIRMED
SUMMARY:Danışman Onayı ile Ders Planındaki Derslerden Birisini Bırakıp Bir Başka Derse Yazılma
END:VEVENT
END:VCALENDAR
