BEGIN:VCALENDAR
VERSION:2.0
PRODID:itakvim.com
METHOD:PUBLISH
UID:9b6dcbc8-7d74-4719-50de-08de9f183112
X-WR-CALNAME:Miami Grand Prix'si Sıralama turları
X-ITAKVIM-LANGUAGE:tr
X-ITAKVIM-REGION:TR
CALSCALE:GREGORIAN
BEGIN:VEVENT
UID:9b6dcbc8-7d74-4719-50de-08de9f183112
DTSTAMP:20260420T200718Z
DTSTART:20260502T200000Z
DTEND:20260502T200000Z
TRANSP:TRANSPARENT
STATUS:CONFIRMED
SUMMARY:Miami Grand Prix'si Sıralama turları
END:VEVENT
END:VCALENDAR
