BEGIN:VCALENDAR
VERSION:2.0
PRODID:itakvim.com
METHOD:PUBLISH
UID:9c83db96-1e29-4b40-5284-08de9f183112
X-WR-CALNAME:Paper Eurasıa - Kağıt, Oluklu Mukavva, Hijyenik Kağıt, Matbaa, Kağıt Ambalaj Ürünleri Ve Makineleri Fuarı
X-ITAKVIM-LANGUAGE:tr
X-ITAKVIM-REGION:TR
CALSCALE:GREGORIAN
BEGIN:VEVENT
UID:9c83db96-1e29-4b40-5284-08de9f183112
DTSTAMP:20260420T200816Z
DTSTART:20260610T060000Z
DTEND:20260612T150000Z
TRANSP:TRANSPARENT
STATUS:CONFIRMED
SUMMARY:Paper Eurasıa - Kağıt, Oluklu Mukavva, Hijyenik Kağıt, Matbaa, Kağıt Ambalaj Ürünleri Ve Makineleri Fuarı
DESCRIPTION:Primis Expo Uluslararası Fuarcılık Ve Ticaret Anonim Şirketi tarafından düzenlenen kağıt, oluklu mukavva, hijyenik kağıt, matbaa, ambalaj ürünleri, makineleri konulu fuarda görüşmek üzere: 

Web:www.papereurasia.com
E-Posta: info@primisexpo.com
LOCATION:İstanbul Fuar Merkezi
END:VEVENT
END:VCALENDAR
