BEGIN:VCALENDAR
VERSION:2.0
PRODID:itakvim.com
METHOD:PUBLISH
UID:9e2a4fd2-8e5a-4611-524f-08de9f183112
X-WR-CALNAME:2. Sandıklı Tarım Hayvancılık Makinaları, Teknolojileri Ve Seracılık Fuarı
X-ITAKVIM-LANGUAGE:tr
X-ITAKVIM-REGION:TR
CALSCALE:GREGORIAN
BEGIN:VEVENT
UID:9e2a4fd2-8e5a-4611-524f-08de9f183112
DTSTAMP:20260420T200816Z
DTSTART:20260513T060000Z
DTEND:20260516T150000Z
TRANSP:TRANSPARENT
STATUS:CONFIRMED
SUMMARY:2. Sandıklı Tarım Hayvancılık Makinaları, Teknolojileri Ve Seracılık Fuarı
DESCRIPTION:Başak Fuar Hizmetleri Limited Şirketi tarafından düzenlenen tarım, tarımsal mekanizasyon, seracılık, hayvancılık teknolojileri, gıda ve yem konulu fuarda görüşmek üzere: 

Web:www.basakfuar.com
E-Posta: sedatbozkurt3@gmail.com; info@basakfuar.com
LOCATION:Sandıklı Çok Amaçlı Kapalı Fuar Alanı
END:VEVENT
END:VCALENDAR
