BEGIN:VCALENDAR
VERSION:2.0
PRODID:itakvim.com
METHOD:PUBLISH
UID:9e7e44bf-05bb-4b5a-52c8-08de9f183112
X-WR-CALNAME:Teke Yöresi 11. Canlı Hayvan, Hayvancılık, Tarım Makineleri, Teknolojileri Ve Yem Fuarı
X-ITAKVIM-LANGUAGE:tr
X-ITAKVIM-REGION:TR
CALSCALE:GREGORIAN
BEGIN:VEVENT
UID:9e7e44bf-05bb-4b5a-52c8-08de9f183112
DTSTAMP:20260420T200816Z
DTSTART:20260507T060000Z
DTEND:20260510T150000Z
TRANSP:TRANSPARENT
STATUS:CONFIRMED
SUMMARY:Teke Yöresi 11. Canlı Hayvan, Hayvancılık, Tarım Makineleri, Teknolojileri Ve Yem Fuarı
DESCRIPTION:Gl Platform Fuar Hizmetleri Limited Şirketi tarafından düzenlenen tarım, hayvancılık ve makine teknolojileri konulu fuarda görüşmek üzere: 

Web:www.glplatformfuar.com
E-Posta: info@glplatformfuar.com
LOCATION:Burdur Kapalı Çok Amaçlı Fuar Alanı (Uzay Çatı)
END:VEVENT
END:VCALENDAR
