BEGIN:VCALENDAR
VERSION:2.0
PRODID:itakvim.com
METHOD:PUBLISH
UID:9e902606-24e8-4831-d600-08de9fecec0c
X-WR-CALNAME:e-YDS Elektronik Yabancı Dil Sınavı (e-YDS 2026/7 Arapça/Rusça) *** Sınav
X-ITAKVIM-LANGUAGE:tr
X-ITAKVIM-REGION:TR
CALSCALE:GREGORIAN
BEGIN:VEVENT
UID:9e902606-24e8-4831-d600-08de9fecec0c
DTSTAMP:20260421T212824Z
DTSTART:20260627T210000Z
DTEND:20260627T210000Z
TRANSP:TRANSPARENT
STATUS:CONFIRMED
SUMMARY:e-YDS Elektronik Yabancı Dil Sınavı (e-YDS 2026/7 Arapça/Rusça) *** Sınav
END:VEVENT
END:VCALENDAR
