BEGIN:VCALENDAR
VERSION:2.0
PRODID:itakvim.com
METHOD:PUBLISH
UID:9ef72330-fb28-483c-dd22-08de9c03c470
X-WR-CALNAME:GAZİANTEP FUTBOL KULÜBÜ A.Ş. - RAMS BAŞAKŞEHİR FUTBOL KULÜBÜ
X-ITAKVIM-LANGUAGE:tr
X-ITAKVIM-REGION:TR
CALSCALE:GREGORIAN
BEGIN:VEVENT
UID:9ef72330-fb28-483c-dd22-08de9c03c470
DTSTAMP:20260416T220746Z
DTSTART:20260516T210000Z
DTEND:20260516T210000Z
TRANSP:TRANSPARENT
STATUS:CONFIRMED
SUMMARY:GAZİANTEP FUTBOL KULÜBÜ A.Ş. - RAMS BAŞAKŞEHİR FUTBOL KULÜBÜ
LOCATION:GAZİANTEP STADYUMU - GAZİANTEP
END:VEVENT
END:VCALENDAR
