BEGIN:VCALENDAR
VERSION:2.0
PRODID:itakvim.com
METHOD:PUBLISH
UID:9f2d5ae6-1dae-415b-d25e-08de9f271cd7
X-WR-CALNAME:KTLEV, %0.11, 0,0821 TL
X-ITAKVIM-LANGUAGE:tr
X-ITAKVIM-REGION:TR
CALSCALE:GREGORIAN
BEGIN:VEVENT
UID:9f2d5ae6-1dae-415b-d25e-08de9f271cd7
DTSTAMP:20260420T215226Z
DTSTART:20260623T060000Z
DTEND:20260623T140000Z
TRANSP:TRANSPARENT
STATUS:CONFIRMED
SUMMARY:KTLEV, %0.11, 0,0821 TL
DESCRIPTION:Katılımevim Tasarruf Finansman A.Ş.
END:VEVENT
END:VCALENDAR
