BEGIN:VCALENDAR
VERSION:2.0
PRODID:itakvim.com
METHOD:PUBLISH
UID:a090739b-1474-4005-d2ae-08de9f271cd7
X-WR-CALNAME:2025 Yılı Vergi Levhasının Alınması Son Gün
X-ITAKVIM-LANGUAGE:tr
X-ITAKVIM-REGION:TR
CALSCALE:GREGORIAN
BEGIN:VEVENT
UID:a090739b-1474-4005-d2ae-08de9f271cd7
DTSTAMP:20260420T215235Z
DTSTART:20260601T140000Z
DTEND:20260601T140000Z
TRANSP:TRANSPARENT
STATUS:CONFIRMED
SUMMARY:2025 Yılı Vergi Levhasının Alınması Son Gün
DESCRIPTION:2025 Yılına Ait Gelir Vergisi Mükelleflerinin Vergi Levhasının Dijital Vergi Dairesinden (İnternet Vergi Dairesi) Alınması
END:VEVENT
END:VCALENDAR
