BEGIN:VCALENDAR
VERSION:2.0
PRODID:itakvim.com
METHOD:PUBLISH
UID:a10b4790-30d0-4b48-5250-08de9f183112
X-WR-CALNAME:Denizli Tarım Gıda Sera Ve Hayvancılık Fuarı
X-ITAKVIM-LANGUAGE:tr
X-ITAKVIM-REGION:TR
CALSCALE:GREGORIAN
BEGIN:VEVENT
UID:a10b4790-30d0-4b48-5250-08de9f183112
DTSTAMP:20260420T200817Z
DTSTART:20261226T060000Z
DTEND:20261228T150000Z
TRANSP:TRANSPARENT
STATUS:CONFIRMED
SUMMARY:Denizli Tarım Gıda Sera Ve Hayvancılık Fuarı
DESCRIPTION:Bizim Prodüksiyon Limited Şirketi tarafından düzenlenen tarım, tarım teknolojileri, seracılık, hayvancılık, tohum, fidan, gübre, sulama teknolojileri, süt endüstrisi konulu fuarda görüşmek üzere: 

Web:bizimfuarcilik.com
E-Posta: bizimfuarcilik@gmail.com
LOCATION:Denizli Serinhisar Kapalı Pazar Yeri
END:VEVENT
END:VCALENDAR
